
BEGIN:VCALENDAR
VERSION:2.0
PRODID:-//81.88.34.94//NONSGML kigkonsult.se iCalcreator 2.20//
CALSCALE:GREGORIAN
METHOD:PUBLISH
X-WR-TIMEZONE:Europe/Berlin
BEGIN:VEVENT
UID:event3286@Ausbildungs- und Forschungszentrum ETHNOS e.V.   -- Integrati
 onsgemeinschaft Dortmund-Silberborne --
DTSTAMP:20260419T150248Z
CATEGORIES:Recherchen
DESCRIPTION:Recherchen im Institut für Zeitungsforschung\nKategorie: Recher
 chen\nICS-Link: https://afz-ethnos.org/index.php?option=com_jem&view=event
 &id=3286:recherchen-im-institut-fuer-zeitungsforschung\n
DTSTART;TZID=Europe/Berlin:20260508T113000
DTEND;TZID=Europe/Berlin:20260508T153000
LOCATION:Institut für Zeitungsforschung\, Max-von-der-Grün-Platz 1-3\,44137
  Dortmund
SUMMARY:Recherchen im Institut für Zeitungsforschung
URL:https://afz-ethnos.org/index.php?option=com_jem&view=event&id=3286:rech
 erchen-im-institut-fuer-zeitungsforschung
END:VEVENT
END:VCALENDAR
