
BEGIN:VCALENDAR
VERSION:2.0
PRODID:-//81.88.34.94//NONSGML kigkonsult.se iCalcreator 2.20//
CALSCALE:GREGORIAN
METHOD:PUBLISH
X-WR-TIMEZONE:Europe/Berlin
BEGIN:VEVENT
UID:event3260@Ausbildungs- und Forschungszentrum ETHNOS e.V.   -- Integrati
 onsgemeinschaft Dortmund-Silberborne --
DTSTAMP:20260419T125454Z
CATEGORIES:Recherchen
DESCRIPTION:Redaktionsleitung der Zeitschrift ‚KENNENLERNEN‘\nKategorie: Re
 cherchen\nICS-Link: https://afz-ethnos.org/index.php?option=com_jem&view=e
 vent&id=3260:redaktionsleitung-der-zeitschrift-kennenlernen\n
DTSTART;TZID=Europe/Berlin:20260423T093000
DTEND;TZID=Europe/Berlin:20260423T103000
LOCATION:Redaktionsleitung der Zeitschrift ‚KENNENLERNEN‘
SUMMARY:Redaktionsleitung der Zeitschrift ‚KENNENLERNEN‘
URL:https://afz-ethnos.org/index.php?option=com_jem&view=event&id=3260:reda
 ktionsleitung-der-zeitschrift-kennenlernen
END:VEVENT
END:VCALENDAR
