
BEGIN:VCALENDAR
VERSION:2.0
PRODID:-//81.88.34.94//NONSGML kigkonsult.se iCalcreator 2.20//
CALSCALE:GREGORIAN
METHOD:PUBLISH
X-WR-TIMEZONE:Europe/Berlin
BEGIN:VEVENT
UID:event3205@Ausbildungs- und Forschungszentrum ETHNOS e.V.   -- Integrati
 onsgemeinschaft Dortmund-Silberborne --
DTSTAMP:20260421T095830Z
CATEGORIES:Treffen
DESCRIPTION:Ausflug ins Grüne https://de.wikipedia.org/wiki/Deusenberg\nKat
 egorie: Treffen\nICS-Link: https://afz-ethnos.org/index.php?option=com_jem
 &view=event&id=3205:ausflug-ins-gruene-https-de-wikipedia-org-wiki-deusenb
 erg\n
DTSTART;TZID=Europe/Berlin:20260322T130000
DTEND;TZID=Europe/Berlin:20260322T183000
SUMMARY:Ausflug ins Grüne https://de.wikipedia.org/wiki/Deusenberg
URL:https://afz-ethnos.org/index.php?option=com_jem&view=event&id=3205:ausf
 lug-ins-gruene-https-de-wikipedia-org-wiki-deusenberg
END:VEVENT
END:VCALENDAR
