
BEGIN:VCALENDAR
VERSION:2.0
PRODID:-//81.88.34.94//NONSGML kigkonsult.se iCalcreator 2.20//
CALSCALE:GREGORIAN
METHOD:PUBLISH
X-WR-TIMEZONE:Europe/Berlin
BEGIN:VEVENT
UID:event230@Ausbildungs- und Forschungszentrum ETHNOS e.V.   -- Integratio
 nsgemeinschaft Dortmund-Silberborne --
DTSTAMP:20260421T095703Z
CATEGORIES:Treffen
DESCRIPTION:Online-Treffen Arbeitsgruppe Open World \nKategorie: Treffen\nI
 CS-Link: https://afz-ethnos.org/index.php?option=com_jem&view=event&id=230
 :online-treffen-arbeitsgruppe-open-world\n
DTSTART;TZID=Europe/Berlin:20210430T100000
DTEND;TZID=Europe/Berlin:20210430T120000
LOCATION:Online Arbeitsgruppe Open World\,44357 Dortmund
SUMMARY:Online-Treffen Arbeitsgruppe Open World 
URL:https://afz-ethnos.org/index.php?option=com_jem&view=event&id=230:onlin
 e-treffen-arbeitsgruppe-open-world
END:VEVENT
END:VCALENDAR
