
BEGIN:VCALENDAR
VERSION:2.0
PRODID:-//81.88.34.94//NONSGML kigkonsult.se iCalcreator 2.20//
CALSCALE:GREGORIAN
METHOD:PUBLISH
X-WR-TIMEZONE:Europe/Berlin
BEGIN:VEVENT
UID:event3253@Ausbildungs- und Forschungszentrum ETHNOS e.V.   -- Integrati
 onsgemeinschaft Dortmund-Silberborne --
DTSTAMP:20260421T101248Z
CATEGORIES:Treffen
DESCRIPTION:Redaktionsleitung der Zeitschrift ‚Journal of Ethnic Microhisto
 ry‘\nKategorie: Treffen\nICS-Link: http://afz-ethnos.org/index.php?option=
 com_jem&view=event&id=3253:redaktionsleitung-der-zeitschrift-journal-of-et
 hnic-microhistory\n
DTSTART;TZID=Europe/Berlin:20260420T093000
DTEND;TZID=Europe/Berlin:20260420T103000
LOCATION:Onlinehub der Redaktionsleitung der Zeitschrift ‚J
SUMMARY:Redaktionsleitung der Zeitschrift ‚Journal of Ethnic Microhistory‘
URL:http://afz-ethnos.org/index.php?option=com_jem&view=event&id=3253:redak
 tionsleitung-der-zeitschrift-journal-of-ethnic-microhistory
END:VEVENT
END:VCALENDAR
