
BEGIN:VCALENDAR
VERSION:2.0
PRODID:-//81.88.34.94//NONSGML kigkonsult.se iCalcreator 2.20//
CALSCALE:GREGORIAN
METHOD:PUBLISH
X-WR-TIMEZONE:Europe/Berlin
BEGIN:VEVENT
UID:event2918@Ausbildungs- und Forschungszentrum ETHNOS e.V.   -- Integrati
 onsgemeinschaft Dortmund-Silberborne --
DTSTAMP:20260421T083233Z
CATEGORIES:Unterricht
DESCRIPTION:Vergleichende Sprachförderung für Erwachsene\nKategorie: Unterr
 icht\nICS-Link: http://afz-ethnos.org/index.php?option=com_jem&view=event&
 id=2918:vergleichende-sprachfoerderung-fuer-erwachsene\n
DTSTART;TZID=Europe/Berlin:20251011T113000
DTEND;TZID=Europe/Berlin:20251011T123000
LOCATION:Onlinehub Vergleichende Sprachförderung\,44357 Dortmund
SUMMARY:Vergleichende Sprachförderung für Erwachsene
URL:http://afz-ethnos.org/index.php?option=com_jem&view=event&id=2918:vergl
 eichende-sprachfoerderung-fuer-erwachsene
END:VEVENT
END:VCALENDAR
